BEGIN:VCALENDAR
VERSION:2.0
PRODID:https://github.com/derhansen/sf_event_mgt
METHOD:PUBLISH
BEGIN:VEVENT
UID:206-1079@www.inotec-licht.de
CLASS: PUBLIC
SUMMARY:Grundlagenseminar: Fachtag für Sicherheitsbeleuchtung und Dynamisch
 e Fluchtweglenkung
DESCRIPTION:\n\nDas Seminar vermittelt grundlegende Fachkenntnisse zur Plan
 ung, Errichtung und Betrieb einer modernen Sicherheitsbeleuchtung und Dynam
 ischen Fluchtweglenkung.\n\n
LOCATION:INOTEC Sicherheitstechnik GmbH - Seminarraum
DTSTAMP:20260422T132037Z
DTSTART:20260429T073000Z
DTEND:20260429T143000Z
END:VEVENT
END:VCALENDAR
