BEGIN:VCALENDAR
VERSION:2.0
PRODID:https://github.com/derhansen/sf_event_mgt
METHOD:PUBLISH
BEGIN:VEVENT
UID:229-137@www.inotec-licht.de
CLASS: PUBLIC
SUMMARY:Planerseminar Chemnitz 2026
DESCRIPTION:\n\nDas Seminar vermittelt rechtliche und normative Grundkenntn
 isse zur Planung einer modernen Sicherheitsbeleuchtung und erläutert an kon
 kreten Beispielen die normativen Anforderungen und möglichen Anlagenkonzept
 e. Daneben werden die Konzepte und Möglichkeiten optischer Fluchtwegleitsys
 teme als sinnvolle Ergänzung zur Sicherheitsbeleuchtung vorgestellt.\n\n
LOCATION:Hotel an der Oper
DTSTAMP:20260218T062907Z
DTSTART:20261027T073000Z
DTEND:20261027T150000Z
END:VEVENT
END:VCALENDAR
